BEGIN:VCALENDAR
VERSION:2.0
PRODID:-//eventon.com NONSGML v1.0//EN
CALSCALE:GREGORIAN
METHOD:PUBLISH
BEGIN:VEVENT
UID:69e88d4d17115
DTSTAMP:20260422T085645Z
DTSTART:20251218T160000Z
DTEND:20251218T180000Z
LOCATION:
SUMMARY:⚽🎄TORNEO DE NAVIDAD INTERESCUELAS – FÚTBOL SALA🎄⚽
DESCRIPTION:Llega el Torneo Interescuelas de Fútbol Sala\,  una tarde de d
 eporte\,  convivencia y valores para nuestros jóvenes deportistas. 📅 Ju
 eves 18 de Diciembre 🕧 A las 16:00 horas 📌 En el Pabellón de Deporte
 s 👉 Organiza: ED Alguazas FS 🤝 Con la colaboración de la Concejalía
  de Deportes y el[..]\nhttps://alguazas.es/events/torneo-de-navidad-interes
 cuelas/
URL:https://alguazas.es/events/torneo-de-navidad-interescuelas/
END:VEVENT
END:VCALENDAR