BEGIN:VCALENDAR
VERSION:2.0
PRODID:-//eventon.com NONSGML v1.0//EN
CALSCALE:GREGORIAN
METHOD:PUBLISH
BEGIN:VEVENT
UID:69e79c759f382
DTSTAMP:20260421T154909Z
DTSTART:20251218T200000Z
DTEND:20251218T210000Z
LOCATION:
SUMMARY:Acto elección de Alcaide de la Torre Vieja
DESCRIPTION:📅 Jueves 18 de Diciembre 🕧 A las 20:00 horas 📌 En la C
 asa de la Cultura Organizado por la Asociación Cultural Amigos de la Torre
 \nhttps://alguazas.es/events/acto-eleccion-de-alcaide-de-la-torre-vieja/
URL:https://alguazas.es/events/acto-eleccion-de-alcaide-de-la-torre-vieja/
END:VEVENT
END:VCALENDAR