BEGIN:VCALENDAR
VERSION:2.0
PRODID:-//eventon.com NONSGML v1.0//EN
CALSCALE:GREGORIAN
METHOD:PUBLISH
BEGIN:VEVENT
UID:69eb0d6278fd4
DTSTAMP:20260424T062746Z
DTSTART:20251223T173000Z
DTEND:20251223T190000Z
LOCATION:
SUMMARY:Masterclass de bachata
DESCRIPTION:📅 Martes 23 de Diciembre 🕧 A las 17:30 horas 📌 En la c
 arpa de la Plaza Adolfo Suárez Organizado por el grupo Bachatéame de la P
 eña El Molinico\nhttps://alguazas.es/events/masterclass-de-bachata-4/
URL:https://alguazas.es/events/masterclass-de-bachata-4/
END:VEVENT
END:VCALENDAR