BEGIN:VCALENDAR
VERSION:2.0
PRODID:-//eventon.com NONSGML v1.0//EN
CALSCALE:GREGORIAN
METHOD:PUBLISH
BEGIN:VEVENT
UID:69e89357ae137
DTSTAMP:20260422T092231Z
DTSTART:20251226T160000Z
DTEND:20251226T173000Z
LOCATION:
SUMMARY:Cuentacuentos infantil
DESCRIPTION:👦📖Cuentacuentos infantil📖👧 🗓️ Viernes 26 de di
 ciembre 🕑 A las 16:00 horas 📌 En la Carpa de la Plaza Adolfo Suárez 
 Organizado por Turulí Turulé\nhttps://alguazas.es/events/cuentacuentos-in
 fantil-10/
URL:https://alguazas.es/events/cuentacuentos-infantil-10/
END:VEVENT
END:VCALENDAR