BEGIN:VCALENDAR
VERSION:2.0
PRODID:-//eventon.com NONSGML v1.0//EN
CALSCALE:GREGORIAN
METHOD:PUBLISH
BEGIN:VEVENT
UID:69e78223293d2
DTSTAMP:20260421T135651Z
DTSTART:20251227T090000Z
DTEND:20251227T150000Z
LOCATION:
SUMMARY:Torneo de Fútbol-8 del Club Atlético Villa de Alguazas
DESCRIPTION:🗓️ Sábado 27 de diciembre 🕑 A las 09:00 horas 📌 En 
 el Pabellón de Deportes\nhttps://alguazas.es/events/torneo-de-futbol-8-del
 -club-atletico-villa-de-alguazas/
URL:https://alguazas.es/events/torneo-de-futbol-8-del-club-atletico-villa-de-alguazas/
END:VEVENT
END:VCALENDAR