BEGIN:VCALENDAR
VERSION:2.0
PRODID:-//eventon.com NONSGML v1.0//EN
CALSCALE:GREGORIAN
METHOD:PUBLISH
BEGIN:VEVENT
UID:69e83dc7708bb
DTSTAMP:20260422T031727Z
DTSTART:20251228T110000Z
DTEND:20251228T130000Z
LOCATION:
SUMMARY:III San Silvestre en marcha
DESCRIPTION:No olvides tu disfraz y disfruta de un pasacalles acompañado c
 on música. 🗓️ Domingo 28 de diciembre 🕑 A las 11:00 horas 📌 Sal
 ida desde la Plaza del Ayuntamiento\nhttps://alguazas.es/events/iii-san-sil
 vestre-en-marcha/
URL:https://alguazas.es/events/iii-san-silvestre-en-marcha/
END:VEVENT
END:VCALENDAR