BEGIN:VCALENDAR
VERSION:2.0
PRODID:-//eventon.com NONSGML v1.0//EN
CALSCALE:GREGORIAN
METHOD:PUBLISH
BEGIN:VEVENT
UID:69e8e9be0c603
DTSTAMP:20260422T153110Z
DTSTART:20251228T183000Z
DTEND:20251228T200000Z
LOCATION:
SUMMARY:Cantajuegos infantil "Magia y Diversión"
DESCRIPTION:🗓️ Domingo 28 de diciembre 🕑 A las 18:30 horas 📌 En 
 la carpa de la Plaza Adolfo Suárez\nhttps://alguazas.es/events/cantajuegos
 -infantil-magia-y-diversion/
URL:https://alguazas.es/events/cantajuegos-infantil-magia-y-diversion/
END:VEVENT
END:VCALENDAR