BEGIN:VCALENDAR
VERSION:2.0
PRODID:-//eventon.com NONSGML v1.0//EN
CALSCALE:GREGORIAN
METHOD:PUBLISH
BEGIN:VEVENT
UID:69eb2f75a065c
DTSTAMP:20260424T085309Z
DTSTART:20251228T203000Z
DTEND:20251228T210000Z
LOCATION:
SUMMARY:Canto de villancicos
DESCRIPTION:🗓️ Domingo 28 de diciembre 🕑 A las 20:00 horas 📌 En 
 la carpa de la Plaza Adolfo Suárez Organizado por la Peña El Riacho\nhttp
 s://alguazas.es/events/canto-de-villancicos/
URL:https://alguazas.es/events/canto-de-villancicos/
END:VEVENT
END:VCALENDAR