BEGIN:VCALENDAR
VERSION:2.0
PRODID:-//eventon.com NONSGML v1.0//EN
CALSCALE:GREGORIAN
METHOD:PUBLISH
BEGIN:VEVENT
UID:69ecfb443aea7
DTSTAMP:20260425T173500Z
DTSTART:20251231T120000Z
DTEND:20251231T130000Z
LOCATION:
SUMMARY:Campanadas Infantiles con cotillón y lacasitos
DESCRIPTION:🗓️ Miércoles 31 de diciembre 🕑 A las 12:00 horas 📌 
 En la Plaza Tierno Galván\nhttps://alguazas.es/events/campanadas-infantile
 s-con-cotillon-y-lacasitos/
URL:https://alguazas.es/events/campanadas-infantiles-con-cotillon-y-lacasitos/
END:VEVENT
END:VCALENDAR