BEGIN:VCALENDAR
VERSION:2.0
PRODID:-//eventon.com NONSGML v1.0//EN
CALSCALE:GREGORIAN
METHOD:PUBLISH
BEGIN:VEVENT
UID:69eb02ea2fd77
DTSTAMP:20260424T054306Z
DTSTART:20260101T010000Z
DTEND:20260101T060000Z
LOCATION:
SUMMARY:🥂🎆FIESTA DE NOCHEVIEJA EN ALGUAZAS🎆🥂
DESCRIPTION:🗓️ Jueves 1 de Enero 🕑 A las 01:00 horas 📌 En la car
 pa de la Plaza Adolfo Suárez 🎟️ Entrada: 10€ ✅ Incluye: cotillón
 \,  1 bebida y cena fría 🎶 DJ + animación 👦 Entrada reducida para m
 enores sin bebida: 5€ 📲 Compra ya tu entrada👇 🌐 Pinche para[..]\
 nhttps://alguazas.es/events/fiesta-de-nochevieja/
URL:https://alguazas.es/events/fiesta-de-nochevieja/
END:VEVENT
END:VCALENDAR