BEGIN:VCALENDAR
VERSION:2.0
PRODID:-//eventon.com NONSGML v1.0//EN
CALSCALE:GREGORIAN
METHOD:PUBLISH
BEGIN:VEVENT
UID:69e83d54cbde0
DTSTAMP:20260422T031532Z
DTSTART:20260102T200000Z
DTEND:20260102T230000Z
LOCATION:
SUMMARY:Juego teatralizado "Casa Cuna"
DESCRIPTION:¿Quieres vivirlo? Sucesos extraños\,  voces del más allá\, 
  llantos\,  risas\,  oración y recogimiento. Investiga lo que sucedió en 
 este lugar\,  donde mucha gente asegura haber visto el espectro de un hombr
 e anciano humildemente vestido y apoyado en una vieja garrota. Intenta que 
 el frío y el miedo no te pille[..]\nhttps://alguazas.es/events/juego-teatr
 alizado-casa-cuna/
URL:https://alguazas.es/events/juego-teatralizado-casa-cuna/
END:VEVENT
END:VCALENDAR