BEGIN:VCALENDAR
VERSION:2.0
PRODID:-//eventon.com NONSGML v1.0//EN
CALSCALE:GREGORIAN
METHOD:PUBLISH
BEGIN:VEVENT
UID:69e4954c39b80
DTSTAMP:20260419T084148Z
DTSTART:20260103T100000Z
DTEND:20260103T150000Z
LOCATION:
SUMMARY:Torneo 12 horas de fútbol sala
DESCRIPTION:Categorías alevín-infantil y cadete-juvenil. 🗓️ Sábado 
 3 de Enero 🕑 A las 10:00 horas 📌 En el Pabellón de Deportes\nhttps:/
 /alguazas.es/events/torneo-12-horas-de-futbol-sala/
URL:https://alguazas.es/events/torneo-12-horas-de-futbol-sala/
END:VEVENT
END:VCALENDAR