BEGIN:VCALENDAR
VERSION:2.0
PRODID:-//eventon.com NONSGML v1.0//EN
CALSCALE:GREGORIAN
METHOD:PUBLISH
BEGIN:VEVENT
UID:69e738f3d2e82
DTSTAMP:20260421T084435Z
DTSTART:20260103T160000Z
DTEND:20260103T170000Z
LOCATION:
SUMMARY:Espectáculo teatral infantil "El Grinch robó la Navidad"
DESCRIPTION:🗓️ Sábado 3 de Enero 🕑 A las 16:00 horas 📌 En la ca
 rpa de la Plaza Adolfo Suárez\nhttps://alguazas.es/events/espectaculo-teat
 ral-infantil-el-grinch-robo-la-navidad/
URL:https://alguazas.es/events/espectaculo-teatral-infantil-el-grinch-robo-la-navidad/
END:VEVENT
END:VCALENDAR