BEGIN:VCALENDAR
VERSION:2.0
PRODID:-//eventon.com NONSGML v1.0//EN
CALSCALE:GREGORIAN
METHOD:PUBLISH
BEGIN:VEVENT
UID:69e77f7e8392a
DTSTAMP:20260421T134534Z
DTSTART:20260110T203000Z
DTEND:20260110T220000Z
LOCATION:
SUMMARY:😂¡ UNA NOCHE DEL SHOW CÓMICO DE "PADRE DE FAMILIA"!😂
DESCRIPTION:El cómico Miki Dkai llega con su monólogo “Padre de Familia
 : Cosas de Casa”\,  un show donde la familia\,  la convivencia y el día 
 a día se convierten en un auténtico festival de carcajadas👨‍👩‍
 ‍👦🏠 Parejas\,  hijas\,  suegras\,  y hasta la mascota… nadie s
 e libra😜 🗓️ Sábado 10 de Enero 🕑[..]\nhttps://alguazas.es/event
 s/show-comico-padre-de-familia/
URL:https://alguazas.es/events/show-comico-padre-de-familia/
END:VEVENT
END:VCALENDAR