BEGIN:VCALENDAR
VERSION:2.0
PRODID:-//eventon.com NONSGML v1.0//EN
CALSCALE:GREGORIAN
METHOD:PUBLISH
BEGIN:VEVENT
UID:69e76aa27e84e
DTSTAMP:20260421T121634Z
DTSTART:20251210T160000Z
DTEND:20251210T170000Z
LOCATION:
SUMMARY:Taller de dulces navideños
DESCRIPTION:📅Fecha: Miércoles 10 de Diciembre de 2025 🕑Hora: 16:00h 
 📌Lugar: Escuela Infantil Reina Sofía ¡¡Inscribiros en Servicios Socia
 les!! Hay plazas limitadas\nhttps://alguazas.es/events/taller-de-dulces-nav
 idenos-2/
URL:https://alguazas.es/events/taller-de-dulces-navidenos-2/
END:VEVENT
END:VCALENDAR