BEGIN:VCALENDAR
VERSION:2.0
PRODID:-//eventon.com NONSGML v1.0//EN
CALSCALE:GREGORIAN
METHOD:PUBLISH
BEGIN:VEVENT
UID:69e7e6a3a8563
DTSTAMP:20260421T210539Z
DTSTART:20201224T170000Z
DTEND:20201225T010000Z
LOCATION:
SUMMARY:Visita de Papá Noel
DESCRIPTION:Día: 24-12-2020 Hora: 17:00 horas Lugar: Plaza Adolfo Suárez 
 &nbsp; Llegada de Papá Noel desde el Polo Norte hasta Alguazas\,  cargado 
 de sorpresas y regalos. Una tarde para vivirla y disfrutarla en familia con
  los más pequeños.\nhttps://alguazas.es/events/visita-de-papa-noel/
URL:https://alguazas.es/events/visita-de-papa-noel/
END:VEVENT
END:VCALENDAR