BEGIN:VCALENDAR
VERSION:2.0
PRODID:-//eventon.com NONSGML v1.0//EN
CALSCALE:GREGORIAN
METHOD:PUBLISH
BEGIN:VEVENT
UID:69e873ebc3a0f
DTSTAMP:20260422T070827Z
DTSTART:20260107T173000Z
DTEND:20260107T183000Z
LOCATION:
SUMMARY:Bebecuentos
DESCRIPTION:📅 Miércoles 7 Enero 🕧 A las 17:30 horas 📌 En la Casa 
 de la Cultura A cargo de Turulí Turulé\nhttps://alguazas.es/events/bebecu
 entos/
URL:https://alguazas.es/events/bebecuentos/
END:VEVENT
END:VCALENDAR