BEGIN:VCALENDAR
VERSION:2.0
PRODID:-//eventon.com NONSGML v1.0//EN
CALSCALE:GREGORIAN
METHOD:PUBLISH
BEGIN:VEVENT
UID:69e9398f8b10c
DTSTAMP:20260422T211143Z
DTSTART:20251208
DTEND:20251209
LOCATION:
SUMMARY:🎉¡RECUPERAMOS LAS FIESTAS DE LA PURÍSIMA EN ALGUAZAS!🎉
DESCRIPTION:Las tradiciones vuelven a brillar en nuestro pueblo✨ y este a
 ño retomamos con mucha ilusión las celebraciones de la Purísima. Tres d
 as llenos de actividades para disfrutar en comunidad: 📅 Del 8 al 10 de 
 diciembre 📌 Ermita La Purísima y Hogar del Pensionista Lunes 08/12 ☕ 
 11:00 h –[..]\nhttps://alguazas.es/events/%f0%9f%8e%89recuperamos-las-fie
 stas-de-la-purisima-en-alguazas%f0%9f%8e%89/
URL:https://alguazas.es/events/%f0%9f%8e%89recuperamos-las-fiestas-de-la-purisima-en-alguazas%f0%9f%8e%89/
END:VEVENT
END:VCALENDAR