BEGIN:VCALENDAR
VERSION:2.0
PRODID:-//eventon.com NONSGML v1.0//EN
CALSCALE:GREGORIAN
METHOD:PUBLISH
BEGIN:VEVENT
UID:69e77d1b41d66
DTSTAMP:20260421T133523Z
DTSTART:20201219T010000Z
DTEND:20201219T010000Z
LOCATION:
SUMMARY:Encendido del árbol de Navidad
DESCRIPTION:Día: 19-12-2020 Lugar: Plaza Adolfo Suárez Hora: 19:00 horas 
 &nbsp; Encendido del gran árbol de Navidad en Alguazas\nhttps://alguazas.e
 s/events/encendido-del-arbol-de-navidad/
URL:https://alguazas.es/events/encendido-del-arbol-de-navidad/
END:VEVENT
END:VCALENDAR