BEGIN:VCALENDAR
VERSION:2.0
PRODID:-//eventon.com NONSGML v1.0//EN
CALSCALE:GREGORIAN
METHOD:PUBLISH
BEGIN:VEVENT
UID:69e7655544270
DTSTAMP:20260421T115357Z
DTSTART:20260117T203000Z
DTEND:20260117T220000Z
LOCATION:
SUMMARY:🎭 EL CABARET DEL FRACASO EN ALGUAZAS 🎭
DESCRIPTION:Una obra que rompe con las ideas tradicionales del éxito y nos
  invita a reírnos de nuestras propias caídas. Porque… ¿quién dijo que
  hay que triunfar? 📅 Sábado 17 de enero 🕑 A las 20:30 horas 📌 Cin
 e-Teatro IV Centenario Un espectáculo de Zentra Teatro\,  protagonizado po
 r Jon Mitó y[..]\nhttps://alguazas.es/events/%f0%9f%8e%ad-el-cabaret-del-f
 racaso-en-alguazas-%f0%9f%8e%ad/
URL:https://alguazas.es/events/%f0%9f%8e%ad-el-cabaret-del-fracaso-en-alguazas-%f0%9f%8e%ad/
END:VEVENT
END:VCALENDAR