BEGIN:VCALENDAR
VERSION:2.0
PRODID:-//eventon.com NONSGML v1.0//EN
CALSCALE:GREGORIAN
METHOD:PUBLISH
BEGIN:VEVENT
UID:69e5a91d0f5d9
DTSTAMP:20260420T041837Z
DTSTART:20260116
DTEND:20260117
LOCATION:
SUMMARY:👑✨ ¿QUIERES SER DAMA O MAJA DE LAS FIESTAS 2026? ✨👑
DESCRIPTION:Hasta el 28 de febrero está abierto el plazo de inscripción p
 ara Damas de las Fiestas Patronales y Majas del Barrio del Carmen\,  respec
 tivamente. Las bases pueden consultarse en este enlace. 📅 Fiestas Patro
 nales del 5 al 14 de Junio 📅 Fiestas del Barrio del Carmen del 10 al 19 
 de[..]\nhttps://alguazas.es/events/%f0%9f%91%91%e2%9c%a8-quieres-ser-dama-o
 -maja-de-las-fiestas-2026-%e2%9c%a8%f0%9f%91%91/
URL:https://alguazas.es/events/%f0%9f%91%91%e2%9c%a8-quieres-ser-dama-o-maja-de-las-fiestas-2026-%e2%9c%a8%f0%9f%91%91/
END:VEVENT
END:VCALENDAR