BEGIN:VCALENDAR
VERSION:2.0
PRODID:-//eventon.com NONSGML v1.0//EN
CALSCALE:GREGORIAN
METHOD:PUBLISH
BEGIN:VEVENT
UID:69e5ac880763c
DTSTAMP:20260420T043312Z
DTSTART:20260207T200000Z
DTEND:20260208T020000Z
LOCATION:
SUMMARY:🎭🔥 ¡VIVE UN CARNAVAL INOLVIDABLE CON THE PURGE FEST! 🔥🎭
DESCRIPTION:Tras el gran desfile de carnaval\,  que finalizará en la Puert
 a del Ayuntamiento\,  dará comienzo el evento más salvaje de la noche… 
 😈🎶 💥 THE PURGE FEST 💥 📌 Carpa &#8211; Plaza Adolfo Suárez 
  De 20:00h a 2:00h Contaremos con: 🎧 DJ con animación 🌮 Food truc
 ks 🎮 Juegos[..]\nhttps://alguazas.es/events/%f0%9f%8e%ad%f0%9f%94%a5-viv
 e-un-carnaval-inolvidable-con-the-purge-fest-%f0%9f%94%a5%f0%9f%8e%ad/
URL:https://alguazas.es/events/%f0%9f%8e%ad%f0%9f%94%a5-vive-un-carnaval-inolvidable-con-the-purge-fest-%f0%9f%94%a5%f0%9f%8e%ad/
END:VEVENT
END:VCALENDAR