BEGIN:VCALENDAR
VERSION:2.0
PRODID:-//eventon.com NONSGML v1.0//EN
CALSCALE:GREGORIAN
METHOD:PUBLISH
BEGIN:VEVENT
UID:69e542dd8eb73
DTSTAMP:20260419T210221Z
DTSTART:20260301T120000Z
DTEND:20260301T150000Z
LOCATION:
SUMMARY:🎺✨ III CONVIVENCIA COFRADE | SEMANA SANTA 2026 🤎✝️
DESCRIPTION:Una cita para compartir tradición\,  música y convivencia en 
 torno a nuestras Cofradías y Hermandades Pasionarias. 📅 Domingo 1 de Ma
 rzo 🕐 A partir de las 12:00 horas 📌 Plaza Adolfo Suárez 🕐 PROGRAM
 ACIÓN 🔶 12:00h – Apertura de stands de Cofradías 🔶 13:30h – Pas
 acalles de bandas 🔶 14:30h[..]\nhttps://alguazas.es/events/%f0%9f%8e%ba%
 e2%9c%a8-iii-convivencia-cofrade-semana-santa-2026-%e2%9c%9d%ef%b8%8f/
URL:https://alguazas.es/events/%f0%9f%8e%ba%e2%9c%a8-iii-convivencia-cofrade-semana-santa-2026-%e2%9c%9d%ef%b8%8f/
END:VEVENT
END:VCALENDAR