BEGIN:VCALENDAR
VERSION:2.0
PRODID:-//eventon.com NONSGML v1.0//EN
CALSCALE:GREGORIAN
METHOD:PUBLISH
BEGIN:VEVENT
UID:69e8c9a0c265f
DTSTAMP:20260422T131408Z
DTSTART:20260221T100000Z
DTEND:20260221T130000Z
LOCATION:
SUMMARY:⚽🏆 TORNEO DE FÚTBOL 7 JJOO JUVENILES DE ALGUAZAS 2026🏆⚽
DESCRIPTION:¿Eres estudiante del instituto CES Vega Media o IES Villa de A
 lguazas?¿Quieres participar y formar parte de los JJOO Juveniles de Alguaz
 as 2026? Tenemos una competición del fútbol 7 entre el CES Vega Media 
  IES Villa de Alguazas 💪⚽ 📅 Sábado 21 de Febrero 📌 Campo de F
 tbol de[..]\nhttps://alguazas.es/events/%e2%9a%bd%f0%9f%8f%86-torneo-de-fu
 tbol-7-jjoo-juveniles-de-alguazas-2026%f0%9f%8f%86%e2%9a%bd/
URL:https://alguazas.es/events/%e2%9a%bd%f0%9f%8f%86-torneo-de-futbol-7-jjoo-juveniles-de-alguazas-2026%f0%9f%8f%86%e2%9a%bd/
END:VEVENT
END:VCALENDAR