BEGIN:VCALENDAR
VERSION:2.0
PRODID:-//eventon.com NONSGML v1.0//EN
CALSCALE:GREGORIAN
METHOD:PUBLISH
BEGIN:VEVENT
UID:69e56137687ed
DTSTAMP:20260419T231151Z
DTSTART:20260306T000000Z
DTEND:20260306T000100Z
LOCATION:
SUMMARY:📗✨ CURSO DE MONITOR DE OCIO Y TIEMPO LIBRE ✨👦
DESCRIPTION:Desde la Concejalía de Juventud llevamos 3 años realizando cu
 rsos oficiales de monitor de Ocio y Tiempo Libre en los que obtener el tít
 ulo y después realizar prácticas laborales\,  además de ofrecer la posib
 ilidad de trabajar en empresas prestadoras de servicios a la juventud. El c
 urso tiene un precio de[..]\nhttps://alguazas.es/events/%f0%9f%93%97%e2%9c%
 a8-curso-de-monitor-de-ocio-y-tiempo-libre-%e2%9c%a8%f0%9f%91%a6/
URL:https://alguazas.es/events/%f0%9f%93%97%e2%9c%a8-curso-de-monitor-de-ocio-y-tiempo-libre-%e2%9c%a8%f0%9f%91%a6/
END:VEVENT
END:VCALENDAR