BEGIN:VCALENDAR
VERSION:2.0
PRODID:-//eventon.com NONSGML v1.0//EN
CALSCALE:GREGORIAN
METHOD:PUBLISH
BEGIN:VEVENT
UID:69e5311070060
DTSTAMP:20260419T194624Z
DTSTART:20260131T203000Z
DTEND:20260131T220000Z
LOCATION:
SUMMARY:😂🦸‍♂️ ¡LLEGA A ALGUAZAS EL SHOW MÁS LOCO DE IMPROVISACIÓN! 🦸‍♂️😂
DESCRIPTION:Prepárate para una noche de risas sin parar con IMPROHÉROES 
  Defendiendo la galaxia de la seriedad&#8230; ¡a base de humor e improv
 isación! 📅 Sábado 31 de Enero 🕐 A las 20:30 horas 📌 En el Cine-T
 eatro IV Centenario (Alguazas) 🎟️ Entradas ya a la venta en: 🌐 http
 s://alguazas.es/entradas/ ¡No[..]\nhttps://alguazas.es/events/%f0%9f%98%82
 %f0%9f%a6%b8%e2%99%82%ef%b8%8f-llega-a-alguazas-el-show-mas-loco-de-improvi
 sacion-%f0%9f%a6%b8%e2%99%82%ef%b8%8f%f0%9f%98%82/
URL:https://alguazas.es/events/%f0%9f%98%82%f0%9f%a6%b8%e2%99%82%ef%b8%8f-llega-a-alguazas-el-show-mas-loco-de-improvisacion-%f0%9f%a6%b8%e2%99%82%ef%b8%8f%f0%9f%98%82/
END:VEVENT
END:VCALENDAR