BEGIN:VCALENDAR
VERSION:2.0
PRODID:-//eventon.com NONSGML v1.0//EN
CALSCALE:GREGORIAN
METHOD:PUBLISH
BEGIN:VEVENT
UID:69e7b5bcc8fb2
DTSTAMP:20260421T173700Z
DTSTART:20260523T203000Z
DTEND:20260523T220000Z
LOCATION:
SUMMARY:🤣🎭 ¡LLEGA A ALGUAZAS "IMPREVISIBLE"! 🎭🤣
DESCRIPTION:Imprevisible de Ismael Galletero es un espectáculo cercano 
 en el que no pararás de reír durante 75 minutos\,  donde la sorpresa y la
  improvisación con el público no dejará indiferente a nadie. Mostrando s
 us reflexiones sobre situaciones cotidianas\,  tratando temas con ingenio\,
   espontaneidad y naturalidad\,  en los que te podrás sentir identificado.
  No[..]\nhttps://alguazas.es/events/%f0%9f%a4%a3%f0%9f%8e%ad-llega-a-alguaz
 as-imprevisible-%f0%9f%8e%ad%f0%9f%a4%a3/
URL:https://alguazas.es/events/%f0%9f%a4%a3%f0%9f%8e%ad-llega-a-alguazas-imprevisible-%f0%9f%8e%ad%f0%9f%a4%a3/
END:VEVENT
END:VCALENDAR