BEGIN:VCALENDAR
VERSION:2.0
PRODID:-//eventon.com NONSGML v1.0//EN
CALSCALE:GREGORIAN
METHOD:PUBLISH
BEGIN:VEVENT
UID:69e9d7a2a5168
DTSTAMP:20260423T082610Z
DTSTART:20260323
DTEND:20260324
LOCATION:
SUMMARY:🏀🏆 TORNEO DE BALONCESTO Y BALONMANO JJOO JUVENILES DE ALGUAZAS 2026🏆🤾
DESCRIPTION:¿Eres estudiante del instituto CES Vega Media o IES Villa de A
 lguazas?¿Quieres participar y formar parte de los JJOO Juveniles de Alguaz
 as 2026? Tenemos competición de balonmano y baloncesto entre el CES Vega M
 edia 🆚 IES Villa de Alguazas ¡Os esperamos a todos! Queremos máxima pa
 rticipación para disfrutar juntos de[..]\nhttps://alguazas.es/events/%f0%9
 f%8f%80%f0%9f%8f%86-torneo-de-baloncesto-y-balonmano-jjoo-juveniles-de-algu
 azas-2026%f0%9f%8f%86%f0%9f%a4%be/
URL:https://alguazas.es/events/%f0%9f%8f%80%f0%9f%8f%86-torneo-de-baloncesto-y-balonmano-jjoo-juveniles-de-alguazas-2026%f0%9f%8f%86%f0%9f%a4%be/
END:VEVENT
END:VCALENDAR