BEGIN:VCALENDAR
VERSION:2.0
PRODID:-//eventon.com NONSGML v1.0//EN
CALSCALE:GREGORIAN
METHOD:PUBLISH
BEGIN:VEVENT
UID:69eb459e3af6e
DTSTAMP:20260424T102742Z
DTSTART:20210712T200000Z
DTEND:20210712T210000Z
LOCATION:
SUMMARY:Cuentacuentos infantil con la Asociación Turulí Turulé
DESCRIPTION:Día: lunes 12 de julio. Hora: 20:00 horas. Lugar: Plaza de Pac
 o Serna (Barrio del Carmen).\nhttps://alguazas.es/events/cuentacuentos-infa
 ntil-con-la-asociacion-turuli-turule/
URL:https://alguazas.es/events/cuentacuentos-infantil-con-la-asociacion-turuli-turule/
END:VEVENT
END:VCALENDAR