BEGIN:VCALENDAR
VERSION:2.0
PRODID:-//eventon.com NONSGML v1.0//EN
CALSCALE:GREGORIAN
METHOD:PUBLISH
BEGIN:VEVENT
UID:69e80054273f3
DTSTAMP:20260421T225516Z
DTSTART:20210717T223000Z
DTEND:20210717T235900Z
LOCATION:
SUMMARY:Concierto de Carlos Peralías
DESCRIPTION:Día: sábado 17 de julio. Hora: 22:30 horas. Lugar: Plaza de P
 aco Serna (Barrio del Carmen).\nhttps://alguazas.es/events/concierto-de-car
 los-peralias/
URL:https://alguazas.es/events/concierto-de-carlos-peralias/
END:VEVENT
END:VCALENDAR