BEGIN:VCALENDAR
VERSION:2.0
PRODID:-//eventon.com NONSGML v1.0//EN
CALSCALE:GREGORIAN
METHOD:PUBLISH
BEGIN:VEVENT
UID:69e8148f8cb36
DTSTAMP:20260422T002135Z
DTSTART:20210917T170000Z
DTEND:20210925T190000Z
LOCATION:
SUMMARY:Curso de "Dinamización\,  Gestión y Promoción de Actividades Juveniles"
DESCRIPTION:Los próximos días 17 y 18\,  en Alguazas\,  y los días 24 y 
 25 de septiembre\,  en Villanueva del Río Segura\,  se desarrollará un cu
 rso gratuito promovido por ambos Ayuntamientos dentor del Plan de Formació
 n de Juventud 2021-2022 puesto en marcha por la Dirección General de Juven
 tud\,  a través de[..]\nhttps://alguazas.es/events/curso-de-dinamizacion-g
 estion-y-promocion-de-actividades-juveniles/
URL:https://alguazas.es/events/curso-de-dinamizacion-gestion-y-promocion-de-actividades-juveniles/
END:VEVENT
END:VCALENDAR