BEGIN:VCALENDAR
VERSION:2.0
PRODID:-//eventon.com NONSGML v1.0//EN
CALSCALE:GREGORIAN
METHOD:PUBLISH
BEGIN:VEVENT
UID:69e96e0ab8c95
DTSTAMP:20260423T005538Z
DTSTART:20210729T193000Z
DTEND:20210729T210000Z
LOCATION:
SUMMARY:Charla informativa sobre la Línea ICREF Aval Joven dirigida a la compra de vivienda a jóvenes
DESCRIPTION:Día: jueves 29 de julio de 2021 Hora: 19:30 horas Lugar: Casa 
 de la Cultura (Alguazas) Si tienes menos de 35 años y quieres comprarte un
 a vivienda\,  ¡esta es tu oportunidad! La CARM ha puesto en marcha una ayu
 da consistente en un aval para la financiación del 100% del coste[..]\nhtt
 ps://alguazas.es/events/charla-informativa-sobre-la-linea-icref-aval-joven-
 dirigida-a-la-compra-de-vivienda-a-jovenes/
URL:https://alguazas.es/events/charla-informativa-sobre-la-linea-icref-aval-joven-dirigida-a-la-compra-de-vivienda-a-jovenes/
END:VEVENT
END:VCALENDAR