BEGIN:VCALENDAR
VERSION:2.0
PRODID:-//eventon.com NONSGML v1.0//EN
CALSCALE:GREGORIAN
METHOD:PUBLISH
BEGIN:VEVENT
UID:69e4957a591ac
DTSTAMP:20260419T084234Z
DTSTART:20210925T200000Z
DTEND:20210925T210000Z
LOCATION:
SUMMARY:Entrega de premios XI Concurso de Fotografía Amateur ¡¡Despacido\,  que lo llego!!
DESCRIPTION:Día: sábado 25 de septiembre Hora: a las 20:00 horas Lugar: s
 alón de actos de la Casa de la Cultura El club deportivo senderista «Desp
 acico\,  que no llego» organiza esta actividad dentro de la XII Semana del
  Senderismo y la Montaña que tendrá lugar entre el 19 y 26 de[..]\nhttps:
 //alguazas.es/events/entrega-de-premios-xi-concurso-de-fotografia-amateur-d
 espacido-que-lo-llego/
URL:https://alguazas.es/events/entrega-de-premios-xi-concurso-de-fotografia-amateur-despacido-que-lo-llego/
END:VEVENT
END:VCALENDAR