BEGIN:VCALENDAR
VERSION:2.0
PRODID:-//eventon.com NONSGML v1.0//EN
CALSCALE:GREGORIAN
METHOD:PUBLISH
BEGIN:VEVENT
UID:69e8c8f9b1518
DTSTAMP:20260422T131121Z
DTSTART:20211117T163000Z
DTEND:20211117T210000Z
LOCATION:
SUMMARY:Viajes culturales por Murcia: "casas con encanto"
DESCRIPTION:Día: 17 de noviembre de 2021. Hora de salida: 16:30 horas desd
 e la Plaza del Ayuntamiento. Precio: 5€. La concejalía de Cultura organi
 za varios viajes culturales por Murcia para descubrir maravillosos lugares.
  Inscripciones e información en la Biblioteca.\nhttps://alguazas.es/events
 /viajes-culturales-por-murcia-casas-con-encanto/
URL:https://alguazas.es/events/viajes-culturales-por-murcia-casas-con-encanto/
END:VEVENT
END:VCALENDAR