BEGIN:VCALENDAR
VERSION:2.0
PRODID:-//eventon.com NONSGML v1.0//EN
CALSCALE:GREGORIAN
METHOD:PUBLISH
BEGIN:VEVENT
UID:69e54125ecfe6
DTSTAMP:20260419T205501Z
DTSTART:20211005T193000Z
DTEND:20211007T200000Z
LOCATION:
SUMMARY:Triduo en honor a la Virgen del Rosario con volteo de campanas y lanzamiento de cohetes
DESCRIPTION:Los días 5\,  6 y 7 de octubre la localidad celebrará el día
  de su patrona\,  la Virgen del Rosario. Los tres días a las 19:30 horas s
 e realizará volteo de campanas y lanzamiento de cohetes desde la Iglesia S
 an Onofre.\nhttps://alguazas.es/events/triduo-en-honor-a-la-virgen-del-rosa
 rio-con-volteo-de-campanas-y-lanzamiento-de-cohetes/
URL:https://alguazas.es/events/triduo-en-honor-a-la-virgen-del-rosario-con-volteo-de-campanas-y-lanzamiento-de-cohetes/
END:VEVENT
END:VCALENDAR