BEGIN:VCALENDAR
VERSION:2.0
PRODID:-//eventon.com NONSGML v1.0//EN
CALSCALE:GREGORIAN
METHOD:PUBLISH
BEGIN:VEVENT
UID:69e952a1e9b34
DTSTAMP:20260422T225841Z
DTSTART:20211007T200000Z
DTEND:20211007T210000Z
LOCATION:
SUMMARY:Misa en honor a la Virgen del Rosario
DESCRIPTION:Día: jueves 7 de octubre de 2021. Hora: a las 20 horas. Lugar:
  Iglesia San Onofre.\nhttps://alguazas.es/events/misa-en-honor-a-la-virgen-
 del-rosario/
URL:https://alguazas.es/events/misa-en-honor-a-la-virgen-del-rosario/
END:VEVENT
END:VCALENDAR