BEGIN:VCALENDAR
VERSION:2.0
PRODID:-//eventon.com NONSGML v1.0//EN
CALSCALE:GREGORIAN
METHOD:PUBLISH
BEGIN:VEVENT
UID:69e9c3616f5bc
DTSTAMP:20260423T065945Z
DTSTART:20220102T100000Z
DTEND:20220102T190000Z
LOCATION:
SUMMARY:El mercadillo navideño se aplaza al domingo 2 de enero
DESCRIPTION:Día: domingo 2 de enero de 2022 Hora: a partir de las 10 horas
  Lugar: Plaza Adolfo Suárez La Concejalía de Cultura presenta un original
  Mercadillo Navideño con productos artesanos y de diseño\,  acompañado d
 e actividades gratuitas para los más pequeños\,  por la mañana y por la 
 tarde. Una jornada[..]\nhttps://alguazas.es/events/mercadillo-navideno/
URL:https://alguazas.es/events/mercadillo-navideno/
END:VEVENT
END:VCALENDAR