BEGIN:VCALENDAR
VERSION:2.0
PRODID:-//eventon.com NONSGML v1.0//EN
CALSCALE:GREGORIAN
METHOD:PUBLISH
BEGIN:VEVENT
UID:69e76b34dc67b
DTSTAMP:20260421T121900Z
DTSTART:20211219T180000Z
DTEND:20211219T210000Z
LOCATION:
SUMMARY:Aplazada la proyección del Belén viviente a mañana domingo
DESCRIPTION:Fecha: domingo 19 de diciembre Hora: a las 18:00 horas Lugar: C
 ine-Teatro IV Centenario (calle Comandante Lozano) La Concejalía de Cultur
 a informa que\,  debido a las previsiones meteorológicas\,  la proyección
  del Belén Viviente se trasladará a este domingo día 19 en el Cine-Teatr
 o. Será proyectado el Belén del año 2012[..]\nhttps://alguazas.es/events
 /belen-viviente/
URL:https://alguazas.es/events/belen-viviente/
END:VEVENT
END:VCALENDAR