BEGIN:VCALENDAR
VERSION:2.0
PRODID:-//eventon.com NONSGML v1.0//EN
CALSCALE:GREGORIAN
METHOD:PUBLISH
BEGIN:VEVENT
UID:69e5c336cc1dc
DTSTAMP:20260420T060958Z
DTSTART:20211208T124500Z
DTEND:20211208T140000Z
LOCATION:
SUMMARY:Inauguración del belén municipal
DESCRIPTION:Fecha: miércoles 8 de diciembre Hora: a las 12:45 horas Lugar:
  Biblioteca municipal de Alguazas\nhttps://alguazas.es/events/inauguracion-
 del-belen-municipal/
URL:https://alguazas.es/events/inauguracion-del-belen-municipal/
END:VEVENT
END:VCALENDAR