BEGIN:VCALENDAR
VERSION:2.0
PRODID:-//eventon.com NONSGML v1.0//EN
CALSCALE:GREGORIAN
METHOD:PUBLISH
BEGIN:VEVENT
UID:69e5ac9316605
DTSTAMP:20260420T043323Z
DTSTART:19700101T010000Z
DTEND:19700101T010000Z
LOCATION:
SUMMARY:Acto institucional de la Constitución
DESCRIPTION:Fecha: lunes 6 de diciembre Hora: a las 12:00 horas Lugar: Torr
 e Vieja de Alguazas\nhttps://alguazas.es/events/acto-institucional-de-la-co
 nstitucion/
URL:https://alguazas.es/events/acto-institucional-de-la-constitucion/
END:VEVENT
END:VCALENDAR