BEGIN:VCALENDAR
VERSION:2.0
PRODID:-//eventon.com NONSGML v1.0//EN
CALSCALE:GREGORIAN
METHOD:PUBLISH
BEGIN:VEVENT
UID:69e67e0144530
DTSTAMP:20260420T192657Z
DTSTART:20211204T090000Z
DTEND:20211205T200000Z
LOCATION:
SUMMARY:Viaje a Madrid: Ghost el Musical y encendido navideño
DESCRIPTION:Viaje organizado por la Concejalía de Igualdad y la Asociació
 n de Mujeres de Alguazas\,  los días 4 y 5 de diciembre de 2021 a la ciuda
 d de Madrid para visitar «Ghost» el Musical y el encendido navideño en l
 a capital.\nhttps://alguazas.es/events/viaje-a-madrid-ghost-el-musical-y-en
 cendido-navideno/
URL:https://alguazas.es/events/viaje-a-madrid-ghost-el-musical-y-encendido-navideno/
END:VEVENT
END:VCALENDAR