BEGIN:VCALENDAR
VERSION:2.0
PRODID:-//eventon.com NONSGML v1.0//EN
CALSCALE:GREGORIAN
METHOD:PUBLISH
BEGIN:VEVENT
UID:69e696f14fc6d
DTSTAMP:20260420T211321Z
DTSTART:20211203T100000Z
DTEND:20211203T120000Z
LOCATION:
SUMMARY:Acto de la Constitución escolar
DESCRIPTION:Fecha: viernes 3 de diciembre Hora: a las 10 horas Lugar: saló
 n de plenos del Ayuntamiento de Alguazas Posterior al acto se visitarán lo
 s centros educativos del municipio.\nhttps://alguazas.es/events/acto-de-la-
 constitucion-escolar/
URL:https://alguazas.es/events/acto-de-la-constitucion-escolar/
END:VEVENT
END:VCALENDAR