BEGIN:VCALENDAR
VERSION:2.0
PRODID:-//eventon.com NONSGML v1.0//EN
CALSCALE:GREGORIAN
METHOD:PUBLISH
BEGIN:VEVENT
UID:69e712587bb55
DTSTAMP:20260421T055952Z
DTSTART:20211202T200000Z
DTEND:20211202T210000Z
LOCATION:
SUMMARY:Club de lectura “todo eso que tanto nos gusta” de Pedro Zarraluki
DESCRIPTION:Fecha: jueves 2 de diciembre de 2021 Hora: a las 20:00 horas Lu
 gar: Biblioteca municipal (Alguazas)\nhttps://alguazas.es/events/club-de-le
 ctura-todo-eso-que-tanto-nos-gusta-de-pedro-zarraluki/
URL:https://alguazas.es/events/club-de-lectura-todo-eso-que-tanto-nos-gusta-de-pedro-zarraluki/
END:VEVENT
END:VCALENDAR