BEGIN:VCALENDAR
VERSION:2.0
PRODID:-//eventon.com NONSGML v1.0//EN
CALSCALE:GREGORIAN
METHOD:PUBLISH
BEGIN:VEVENT
UID:69e68c51a733e
DTSTAMP:20260420T202801Z
DTSTART:20211024T180000Z
DTEND:20211024T190000Z
LOCATION:
SUMMARY:Día de la biblioteca: recital de textos
DESCRIPTION:Fecha: domingo 24 de octubre Hora: a las 18 horas Lugar: Torre 
 Vieja (Alguazas) Se realizará un recital de textos con el Club de Lectura 
 y la Asociación Cultural Amigos de la Torre.\nhttps://alguazas.es/events/d
 ia-de-la-biblioteca-recital-de-textos/
URL:https://alguazas.es/events/dia-de-la-biblioteca-recital-de-textos/
END:VEVENT
END:VCALENDAR