BEGIN:VCALENDAR
VERSION:2.0
PRODID:-//eventon.com NONSGML v1.0//EN
CALSCALE:GREGORIAN
METHOD:PUBLISH
BEGIN:VEVENT
UID:69e60eff2ce53
DTSTAMP:20260420T113319Z
DTSTART:20211028T200000Z
DTEND:20211028T210000Z
LOCATION:
SUMMARY:Club de lectura: "Las sin sombrero" de Tánia Balló
DESCRIPTION:Fecha: jueves 28 de octubre Hora: a las 20 horas Lugar: Bibliot
 eca\nhttps://alguazas.es/events/club-de-lectura-las-sin-sombrero-de-tania-b
 allo/
URL:https://alguazas.es/events/club-de-lectura-las-sin-sombrero-de-tania-ballo/
END:VEVENT
END:VCALENDAR