BEGIN:VCALENDAR
VERSION:2.0
PRODID:-//eventon.com NONSGML v1.0//EN
CALSCALE:GREGORIAN
METHOD:PUBLISH
BEGIN:VEVENT
UID:69e5dddf386a7
DTSTAMP:20260420T080343Z
DTSTART:20211030T203000Z
DTEND:20211030T220000Z
LOCATION:
SUMMARY:Acto institucional de la Compra de Alguazas
DESCRIPTION:Fecha: sábado 30 de octubre Hora: a las 20:30 horas Lugar: Cin
 e-Teatro Acto institucional de la Compra de Alguazas con la representación
  de «De los hechos que acontecieron en la compra e independiencia de la mu
 y noble y real Villa de las Alguazas» a cargo del grupo de teatro El[..]\n
 https://alguazas.es/events/acto-institucional-de-la-compra-de-alguazas/
URL:https://alguazas.es/events/acto-institucional-de-la-compra-de-alguazas/
END:VEVENT
END:VCALENDAR