BEGIN:VCALENDAR
VERSION:2.0
PRODID:-//eventon.com NONSGML v1.0//EN
CALSCALE:GREGORIAN
METHOD:PUBLISH
BEGIN:VEVENT
UID:69e5ddd7dc13b
DTSTAMP:20260420T080335Z
DTSTART:20211106T173000Z
DTEND:20211106T190000Z
LOCATION:
SUMMARY:Grupo fantasía: espectáculo infantil musical
DESCRIPTION:Fecha: domingo 6 de noviembre Hora: a las 17:30 horas Lugar: Ci
 ne-Teatro\nhttps://alguazas.es/events/grupo-fantasia-espectaculo-infantil-m
 usical/
URL:https://alguazas.es/events/grupo-fantasia-espectaculo-infantil-musical/
END:VEVENT
END:VCALENDAR