BEGIN:VCALENDAR
VERSION:2.0
PRODID:-//eventon.com NONSGML v1.0//EN
CALSCALE:GREGORIAN
METHOD:PUBLISH
BEGIN:VEVENT
UID:69e921305284f
DTSTAMP:20260422T192744Z
DTSTART:20211114T080000Z
DTEND:20211114T190000Z
LOCATION:
SUMMARY:Salida a Águilas: "Ruta de las Calas"
DESCRIPTION:Fecha: domingo 14 de noviembre Hora: a las 08:00 horas Lugar: s
 alida desde la puerta del Ayuntamiento Inscripciones en la Concejalía de I
 gualdad y en la Asociación de Mujeres de Alguazas.\nhttps://alguazas.es/ev
 ents/salida-a-aguilas-ruta-de-las-calas/
URL:https://alguazas.es/events/salida-a-aguilas-ruta-de-las-calas/
END:VEVENT
END:VCALENDAR