BEGIN:VCALENDAR
VERSION:2.0
PRODID:-//eventon.com NONSGML v1.0//EN
CALSCALE:GREGORIAN
METHOD:PUBLISH
BEGIN:VEVENT
UID:69e916d54fb62
DTSTAMP:20260422T184333Z
DTSTART:20220130T103000Z
DTEND:20220130T120000Z
LOCATION:
SUMMARY:Jornadas de Salud y Deporte: "Iniciación al baile de estilos"
DESCRIPTION:Días: domingo 30 de enero. Hora: a las 10:30. Lugar: Plaza Ado
 lfo Suárez (Ayuntamiento). Las Concejalías de Deportes y Salud Pública p
 onen en marcha las «Jornadas de Salud y Deporte» que tendrán lugar los p
 róximos meses con la colaboración de la Asociación de Mujeres de Alguaza
 s\,  Academia de Baile Victor[..]\nhttps://alguazas.es/events/jornadas-de-s
 alud-y-deporte-iniciacion-al-baile-de-estilos-3/
URL:https://alguazas.es/events/jornadas-de-salud-y-deporte-iniciacion-al-baile-de-estilos-3/
END:VEVENT
END:VCALENDAR