BEGIN:VCALENDAR
VERSION:2.0
PRODID:-//eventon.com NONSGML v1.0//EN
CALSCALE:GREGORIAN
METHOD:PUBLISH
BEGIN:VEVENT
UID:69eccfde27be9
DTSTAMP:20260425T142950Z
DTSTART:20220116T103000Z
DTEND:20220116T120000Z
LOCATION:
SUMMARY:Jornadas de Salud y Deporte: "entrenamiento funcional"
DESCRIPTION:Días: domingo 16 de enero. Hora: a las 10:30. Lugar: Plaza Ado
 lfo Suárez (Ayuntamiento). Las Concejalías de Deportes y Salud Pública p
 onen en marcha las «Jornadas de Salud y Deporte» que tendrán lugar los p
 róximos meses con la colaboración de la Asociación de Mujeres de Alguaza
 s\,  Academia de Baile Victor[..]\nhttps://alguazas.es/events/jornadas-de-s
 alud-y-deporte-entrenamiento-funcional-2/
URL:https://alguazas.es/events/jornadas-de-salud-y-deporte-entrenamiento-funcional-2/
END:VEVENT
END:VCALENDAR